{
 "currentVersion": 10.91,
 "serviceDescription": "PSUD_MOSASAT50_8bRVB_2021_tif",
 "name": "PSUD_MOSASAT50_8bRVB_2021_tif",
 "description": "",
 "extent": {
  "xmin": 303200,
  "ymin": 199910,
  "xmax": 508692.5,
  "ymax": 317674,
  "spatialReference": {
   "wkid": 3163,
   "latestWkid": 3163
  }
 },
 "initialExtent": {
  "xmin": 303200,
  "ymin": 199910,
  "xmax": 508692.5,
  "ymax": 317674,
  "spatialReference": {
   "wkid": 3163,
   "latestWkid": 3163
  }
 },
 "fullExtent": {
  "xmin": 303200,
  "ymin": 199910,
  "xmax": 508692.5,
  "ymax": 317674,
  "spatialReference": {
   "wkid": 3163,
   "latestWkid": 3163
  }
 },
 "hasMultidimensions": false,
 "pixelSizeX": 0.5,
 "pixelSizeY": 0.5,
 "datasetFormat": "TIFF",
 "uncompressedSize": 290395425240,
 "blockWidth": 256,
 "blockHeight": 256,
 "compressionType": "None",
 "bandNames": [
  "Band_1",
  "Band_2",
  "Band_3"
 ],
 "allowCopy": true,
 "allowAnalysis": true,
 "bandCount": 3,
 "noDataValue": 0,
 "noDataValues": [
  0,
  0,
  0
 ],
 "pixelType": "U8",
 "minPixelSize": 0,
 "maxPixelSize": 0,
 "copyrightText": "",
 "serviceDataType": "esriImageServiceDataTypeRGB",
 "serviceSourceType": "esriImageServiceSourceTypeDataset",
 "minValues": [
  1,
  1,
  1
 ],
 "maxValues": [
  255,
  255,
  255
 ],
 "meanValues": [
  57.47509757109,
  64.302042942489,
  58.357166145291
 ],
 "stdvValues": [
  39.180743414083,
  41.371956486182,
  38.965255981718
 ],
 "objectIdField": "",
 "fields": [],
 "capabilities": "Image,Metadata,Mensuration",
 "defaultMosaicMethod": "Center",
 "allowedMosaicMethods": "",
 "sortField": "",
 "sortValue": null,
 "sortAscending": true,
 "mosaicOperator": "First",
 "defaultCompressionQuality": 75,
 "defaultResamplingMethod": "Bilinear",
 "maxImageHeight": 4100,
 "maxImageWidth": 15000,
 "allowRasterFunction": true,
 "rasterFunctionInfos": [
  {
   "name": "None",
   "description": "",
   "help": ""
  }
 ],
 "rasterTypeInfos": [
  {
   "name": "Raster Dataset",
   "description": "Supports all ArcGIS Raster Datasets",
   "help": ""
  }
 ],
 "mensurationCapabilities": "Basic",
 "hasHistograms": true,
 "hasColormap": false,
 "hasRasterAttributeTable": false,
 "minScale": 0,
 "maxScale": 0,
 "exportTilesAllowed": false,
 "supportsStatistics": false,
 "supportsAdvancedQueries": false,
 "editFieldsInfo": null,
 "ownershipBasedAccessControlForRasters": null,
 "allowComputeTiePoints": false,
 "useStandardizedQueries": true,
 "advancedQueryCapabilities": {
  "useStandardizedQueries": true,
  "supportsStatistics": false,
  "supportsOrderBy": false,
  "supportsDistinct": false,
  "supportsPagination": false
 },
 "spatialReference": {
  "wkid": 3163,
  "latestWkid": 3163
 }
}
